BEGIN:VCALENDAR
VERSION:2.0
PRODID:-//Pflugerville Arts Council - ECPv6.15.20//NONSGML v1.0//EN
CALSCALE:GREGORIAN
METHOD:PUBLISH
X-ORIGINAL-URL:https://www.pflugervilleartscouncil.org
X-WR-CALDESC:Events for Pflugerville Arts Council
REFRESH-INTERVAL;VALUE=DURATION:PT1H
X-Robots-Tag:noindex
X-PUBLISHED-TTL:PT1H
BEGIN:VTIMEZONE
TZID:America/Chicago
BEGIN:DAYLIGHT
TZOFFSETFROM:-0600
TZOFFSETTO:-0500
TZNAME:CDT
DTSTART:20250309T080000
END:DAYLIGHT
BEGIN:STANDARD
TZOFFSETFROM:-0500
TZOFFSETTO:-0600
TZNAME:CST
DTSTART:20251102T070000
END:STANDARD
BEGIN:DAYLIGHT
TZOFFSETFROM:-0600
TZOFFSETTO:-0500
TZNAME:CDT
DTSTART:20260308T080000
END:DAYLIGHT
BEGIN:STANDARD
TZOFFSETFROM:-0500
TZOFFSETTO:-0600
TZNAME:CST
DTSTART:20261101T070000
END:STANDARD
BEGIN:DAYLIGHT
TZOFFSETFROM:-0600
TZOFFSETTO:-0500
TZNAME:CDT
DTSTART:20270314T080000
END:DAYLIGHT
BEGIN:STANDARD
TZOFFSETFROM:-0500
TZOFFSETTO:-0600
TZNAME:CST
DTSTART:20271107T070000
END:STANDARD
END:VTIMEZONE
BEGIN:VEVENT
DTSTART;TZID=America/Chicago:20260411T100000
DTEND;TZID=America/Chicago:20260508T140000
DTSTAMP:20260423T144954
CREATED:20260404T213042Z
LAST-MODIFIED:20260417T235836Z
UID:975-1775901600-1778248800@www.pflugervilleartscouncil.org
SUMMARY:Tali Rachelle Art Exhibit
DESCRIPTION:Tali Rachelle is a self-taught graphic artist\, illustrator\, and USAF veteran.  Her art is vibrant and unique. This exciting exhibit will be enhanced by augmented reality.  Download the Viewer App for www.artivive.com from the App Store\, on your phone or iPad.  At the show\, you will be to view the image on the phone through the App to see the image come alive. “I draw digitally with a vector program\, then I add the final touches and effects using photo editing software. I have a soft spot for technical design\, surrealism\, and all things fantastical. What I create is authentically me. I create the art I want to see in the world.”  View her website here.
URL:https://www.pflugervilleartscouncil.org/calendar/tali-rachelle-art-exhibit/
LOCATION:Pflugerville Public Library\, 1008 W. Pfluger Street\, Pflugerville\, Texas\, 78660\, United States
ATTACH;FMTTYPE=image/png:https://www.pflugervilleartscouncil.org/wp-content/uploads/2026/04/Dipped-Strawberries.png
ORGANIZER;CN="Pflugerville Arts Council":MAILTO:info@pflugervilleartscouncil.org
END:VEVENT
BEGIN:VEVENT
DTSTART;TZID=America/Chicago:20260426T160000
DTEND;TZID=America/Chicago:20260426T180000
DTSTAMP:20260423T144954
CREATED:20260419T221154Z
LAST-MODIFIED:20260419T221537Z
UID:995-1777219200-1777226400@www.pflugervilleartscouncil.org
SUMMARY:Not Past 11 band concert
DESCRIPTION:Enjoy this family-friendly concert with the Not Past 11 band.  This 18-piece band is made up of adult professional and amateur musicians\, including a female vocalist\, performing popular 70’s\, 80’s and 90’s rock songs.  The venue is the beautiful sanctuary at Pflugerville First United Methodist Church\, 500 E. Pecan Street\, and will run from 4:00 – 6:00 pm.  Admission is free\, and donations are gratefully accepted.
URL:https://www.pflugervilleartscouncil.org/calendar/not-past-11-band-concert/
LOCATION:Pflugerville First United Methodist Church\, 500 E. Pecan Street\, Pflugerville\, Texas\, 78660
ATTACH;FMTTYPE=image/png:https://www.pflugervilleartscouncil.org/wp-content/uploads/2026/04/NotPast11Band-flyer.png
ORGANIZER;CN="Pflugerville Arts Council":MAILTO:info@pflugervilleartscouncil.org
END:VEVENT
END:VCALENDAR