BEGIN:VCALENDAR
VERSION:2.0
PRODID:-//Pflugerville Arts Council - ECPv6.15.20//NONSGML v1.0//EN
CALSCALE:GREGORIAN
METHOD:PUBLISH
X-ORIGINAL-URL:https://www.pflugervilleartscouncil.org
X-WR-CALDESC:Events for Pflugerville Arts Council
REFRESH-INTERVAL;VALUE=DURATION:PT1H
X-Robots-Tag:noindex
X-PUBLISHED-TTL:PT1H
BEGIN:VTIMEZONE
TZID:UTC
BEGIN:STANDARD
TZOFFSETFROM:+0000
TZOFFSETTO:+0000
TZNAME:UTC
DTSTART:20210101T000000
END:STANDARD
END:VTIMEZONE
BEGIN:VEVENT
DTSTART;TZID=UTC:20221016T160000
DTEND;TZID=UTC:20221016T170000
DTSTAMP:20260425T233145
CREATED:20220805T221302Z
LAST-MODIFIED:20220805T221303Z
UID:607-1665936000-1665939600@www.pflugervilleartscouncil.org
SUMMARY:Classical Artists Concert Series
DESCRIPTION:Enjoy this Classical & Contemporary concert with Kristen Gibbs\, harpist & vocalist!  The event is free\, due to your donations and sponsorships.
URL:https://www.pflugervilleartscouncil.org/calendar/classical-artists-concert-series-2/
LOCATION:Pflugerville First United Methodist Church\, 500 E. Pecan Street\, Pflugerville\, Texas\, 78660\, United States
ORGANIZER;CN="Pflugerville Arts Council":MAILTO:info@pflugervilleartscouncil.org
END:VEVENT
END:VCALENDAR