BEGIN:VCALENDAR
VERSION:2.0
PRODID:-//Pflugerville Arts Council - ECPv6.15.20//NONSGML v1.0//EN
CALSCALE:GREGORIAN
METHOD:PUBLISH
X-ORIGINAL-URL:https://www.pflugervilleartscouncil.org
X-WR-CALDESC:Events for Pflugerville Arts Council
REFRESH-INTERVAL;VALUE=DURATION:PT1H
X-Robots-Tag:noindex
X-PUBLISHED-TTL:PT1H
BEGIN:VTIMEZONE
TZID:UTC
BEGIN:STANDARD
TZOFFSETFROM:+0000
TZOFFSETTO:+0000
TZNAME:UTC
DTSTART:20220101T000000
END:STANDARD
END:VTIMEZONE
BEGIN:VEVENT
DTSTART;TZID=UTC:20231022T150000
DTEND;TZID=UTC:20231022T163000
DTSTAMP:20260425T054534
CREATED:20230921T002718Z
LAST-MODIFIED:20230921T002719Z
UID:772-1697986800-1697992200@www.pflugervilleartscouncil.org
SUMMARY:Kristen Gibbs - Harpist/Vocalist
DESCRIPTION:Free Christian classical concert with music from Bach to Mozart to Beethoven and more featuring Austin harpist/vocalist Kristen Gibbs\, presented by the Pflugerville Arts Council on Oct 22\, 2023 at 3:00PM at Pflugerville First United Methodist Church\, 500 E. Pecan Street\, Pflugerville\, TX.  Suitable for the whole family and donations are accepted. Kristen Gibbs is a classically trained harpist in Austin Texas who provides a variety of Music for any event including Weddings\, Private Parties\, and live public venues.  She is one of only a few Harp players in the Nation who incorporates Vocals while entertaining as a Solo Musician or with a Band.  Kristen plays a large variety of music styles including Pop\, Blues\, Country\, Classical\, and Christian. Kristen Gibbs is Austin’s #1 Harpist and Vocalist with the ability to make the harp a versatile instrument.  Whether you’re interested in classical harp music perfect for your wedding or contemporary lounge music perfect for cocktail hour\, or the cover band that is perfect for receptions and live music venues. She plays songs from “Canon in D\,” and “Clair De Lune\,” to artists like Etta James\, Lauren Daigle\, Johnny Cash\, Bruno Mars\, Nat King Cole\, Aretha Franklin\, Bob Marley\, Adele\, Nora Jones\, Toby Mac\, Frank Sinatra\, etc.
URL:https://www.pflugervilleartscouncil.org/calendar/kristen-gibbs-harpist-vocalist/
LOCATION:Pflugerville First United Methodist Church\, 500 E. Pecan Street\, Pflugerville\, Texas\, 78660
ORGANIZER;CN="Pflugerville Arts Council":MAILTO:info@pflugervilleartscouncil.org
END:VEVENT
END:VCALENDAR