BEGIN:VCALENDAR
VERSION:2.0
PRODID:-//Pflugerville Arts Council - ECPv6.15.20//NONSGML v1.0//EN
CALSCALE:GREGORIAN
METHOD:PUBLISH
X-ORIGINAL-URL:https://www.pflugervilleartscouncil.org
X-WR-CALDESC:Events for Pflugerville Arts Council
REFRESH-INTERVAL;VALUE=DURATION:PT1H
X-Robots-Tag:noindex
X-PUBLISHED-TTL:PT1H
BEGIN:VTIMEZONE
TZID:UTC
BEGIN:STANDARD
TZOFFSETFROM:+0000
TZOFFSETTO:+0000
TZNAME:UTC
DTSTART:20230101T000000
END:STANDARD
END:VTIMEZONE
BEGIN:VEVENT
DTSTART;TZID=UTC:20240728T160000
DTEND;TZID=UTC:20240728T173000
DTSTAMP:20260424T142901
CREATED:20240717T233526Z
LAST-MODIFIED:20240717T233606Z
UID:811-1722182400-1722187800@www.pflugervilleartscouncil.org
SUMMARY:Two Divas in Concert!
DESCRIPTION:The Pflugerville Arts Council and the Classical Artists Concert Series are pleased to present “Two Divas” in concert on Sunday\, July 28\, 2024 at 4pm at Pflugerville First United Methodist Church\, 500 E. Pecan Street. Pieces will include both classical and show tunes!  This is a free concert and donations are gratefully accepted! Enjoy two outstanding vocalists – Daniela Holloway and Abigail Lewis with accompanist Benjamin Dia.
URL:https://www.pflugervilleartscouncil.org/calendar/two-divas-in-concert/
LOCATION:Pflugerville First United Methodist Church\, 500 E. Pecan Street\, Pflugerville\, Texas\, 78660
ORGANIZER;CN="Pflugerville Arts Council":MAILTO:info@pflugervilleartscouncil.org
END:VEVENT
END:VCALENDAR