BEGIN:VCALENDAR
VERSION:2.0
PRODID:-//Pflugerville Arts Council - ECPv6.15.20//NONSGML v1.0//EN
CALSCALE:GREGORIAN
METHOD:PUBLISH
X-WR-CALNAME:Pflugerville Arts Council
X-ORIGINAL-URL:https://www.pflugervilleartscouncil.org
X-WR-CALDESC:Events for Pflugerville Arts Council
REFRESH-INTERVAL;VALUE=DURATION:PT1H
X-Robots-Tag:noindex
X-PUBLISHED-TTL:PT1H
BEGIN:VTIMEZONE
TZID:UTC
BEGIN:STANDARD
TZOFFSETFROM:+0000
TZOFFSETTO:+0000
TZNAME:UTC
DTSTART:20230101T000000
END:STANDARD
END:VTIMEZONE
BEGIN:VEVENT
DTSTART;TZID=UTC:20241101T120000
DTEND;TZID=UTC:20241201T120000
DTSTAMP:20260424T103148
CREATED:20241021T034928Z
LAST-MODIFIED:20241021T035116Z
UID:825-1730462400-1733054400@www.pflugervilleartscouncil.org
SUMMARY:VetArt: A Celebration of American Military Vets in the Arts
DESCRIPTION:Please come view the amazing and beautiful works of art and photography by eleven American Military Veterans!  This is a month-long show.  Artists included: \n\n\n\nShannon JanesFrank MendezTrae MitchellGloria Osorio-LaphamJoAnn Reiter\, aka Jo-Jo PazGlenn ToweryJuanita ToweryCaleb WhiteKarla WilliamsonKen WisianNorma Jean Wise
URL:https://www.pflugervilleartscouncil.org/calendar/vetart-a-celebration-of-american-military-vets-in-the-arts/
LOCATION:Pflugerville Public Library\, 1008 W Pfluger St.\, Pflugerville\, TX\, 78660\, United States
ORGANIZER;CN="Pflugerville Arts Council":MAILTO:info@pflugervilleartscouncil.org
END:VEVENT
BEGIN:VEVENT
DTSTART;TZID=UTC:20241117T160000
DTEND;TZID=UTC:20241117T180000
DTSTAMP:20260424T103148
CREATED:20241030T212945Z
LAST-MODIFIED:20241030T212947Z
UID:837-1731859200-1731866400@www.pflugervilleartscouncil.org
SUMMARY:US Veterans Concert
DESCRIPTION:Join us for this free\, family-friendly\, patriotic and music sing-along with two bands!  The Veterans Music Program consists of all US Military Veterans on guitar and vocals.  The band Clarke & Molly (US Military Veteran) will perform familiar American tunes that you remember from childhood and the 60’s\, 70’s & 80’s.  Don’t worry if you forgot the lyrics:  the words will be available!
URL:https://www.pflugervilleartscouncil.org/calendar/us-veterans-concert/
LOCATION:Pflugerville First United Methodist Church\, 500 E. Pecan Street\, Pflugerville\, Texas\, 78660
ORGANIZER;CN="Pflugerville Arts Council":MAILTO:info@pflugervilleartscouncil.org
END:VEVENT
END:VCALENDAR