BEGIN:VCALENDAR
VERSION:2.0
PRODID:-//Pflugerville Arts Council - ECPv6.15.20//NONSGML v1.0//EN
CALSCALE:GREGORIAN
METHOD:PUBLISH
X-ORIGINAL-URL:https://www.pflugervilleartscouncil.org
X-WR-CALDESC:Events for Pflugerville Arts Council
REFRESH-INTERVAL;VALUE=DURATION:PT1H
X-Robots-Tag:noindex
X-PUBLISHED-TTL:PT1H
BEGIN:VTIMEZONE
TZID:UTC
BEGIN:STANDARD
TZOFFSETFROM:+0000
TZOFFSETTO:+0000
TZNAME:UTC
DTSTART:20240101T000000
END:STANDARD
END:VTIMEZONE
BEGIN:VTIMEZONE
TZID:America/Chicago
BEGIN:DAYLIGHT
TZOFFSETFROM:-0600
TZOFFSETTO:-0500
TZNAME:CDT
DTSTART:20240310T080000
END:DAYLIGHT
BEGIN:STANDARD
TZOFFSETFROM:-0500
TZOFFSETTO:-0600
TZNAME:CST
DTSTART:20241103T070000
END:STANDARD
BEGIN:DAYLIGHT
TZOFFSETFROM:-0600
TZOFFSETTO:-0500
TZNAME:CDT
DTSTART:20250309T080000
END:DAYLIGHT
BEGIN:STANDARD
TZOFFSETFROM:-0500
TZOFFSETTO:-0600
TZNAME:CST
DTSTART:20251102T070000
END:STANDARD
BEGIN:DAYLIGHT
TZOFFSETFROM:-0600
TZOFFSETTO:-0500
TZNAME:CDT
DTSTART:20260308T080000
END:DAYLIGHT
BEGIN:STANDARD
TZOFFSETFROM:-0500
TZOFFSETTO:-0600
TZNAME:CST
DTSTART:20261101T070000
END:STANDARD
BEGIN:DAYLIGHT
TZOFFSETFROM:-0600
TZOFFSETTO:-0500
TZNAME:CDT
DTSTART:20270314T080000
END:DAYLIGHT
BEGIN:STANDARD
TZOFFSETFROM:-0500
TZOFFSETTO:-0600
TZNAME:CST
DTSTART:20271107T070000
END:STANDARD
END:VTIMEZONE
BEGIN:VEVENT
DTSTART;TZID=UTC:20250117T150000
DTEND;TZID=UTC:20250221T180000
DTSTAMP:20260424T103746
CREATED:20250112T014151Z
LAST-MODIFIED:20250112T014154Z
UID:854-1737126000-1740160800@www.pflugervilleartscouncil.org
SUMMARY:Convergente & Tzompantili Art Exhibits
DESCRIPTION:From their respective states of residence\, eight Convergente artists each bring a unique vision to the worlds of contemporary art\, from where they capture their transnational experiences and visually narrate how these experiences influence and shape the artistic practice.  The Tzompantili exhibit is a collective artistic introspection Inspired by the ancient Mesoamerican tradition of the Tzompantli\, which displayed human skulls in a ritual act intended to ensure the continuity of life\, Tzompantli Artistic Reflection 2024 is the fifth edition of this international exhibition. More than 160 artists from various parts of the world have created works in which they reinterpret this ancestral symbolism\, each using their personal technique and accompanying their artwork with a written reflection on the current year.
URL:https://www.pflugervilleartscouncil.org/calendar/convergente-tzompantili-art-exhibits/
LOCATION:Pflugerville Public Library\, 1008 W Pfluger St.\, Pflugerville\, TX\, 78660\, United States
ORGANIZER;CN="Pflugerville Arts Council":MAILTO:info@pflugervilleartscouncil.org
END:VEVENT
BEGIN:VEVENT
DTSTART;TZID=UTC:20250323T160000
DTEND;TZID=UTC:20250323T173000
DTSTAMP:20260424T103746
CREATED:20250306T223806Z
LAST-MODIFIED:20250306T223809Z
UID:864-1742745600-1742751000@www.pflugervilleartscouncil.org
SUMMARY:Brass Concert Extravaganza!
DESCRIPTION:Join us for an electrifying afternoon of brass music as the Central Texas Philharmonic Brass Quintet takes the stage for Brass Extravaganza! Experience the power\, brilliance\, and beauty of brass instruments in an unforgettable concert featuring members of our very own brass section. \n\n\n\nThis dynamic program will showcase a thrilling mix of classical favorites\, jazz standards\, and bold contemporary works\, all performed with the virtuosity and energy that only brass instruments can deliver! \n\n\n\nDon’t miss this opportunity to hear the bold and beautiful sounds of trumpet\, horn\, trombone\, and tuba in an intimate chamber setting. Admission is FREE and donations are accepted—bring your friends and family for an unforgettable afternoon of music!
URL:https://www.pflugervilleartscouncil.org/calendar/brass-concert-extravaganza/
LOCATION:Pflugerville First United Methodist Church\, 500 E. Pecan Street\, Pflugerville\, Texas\, 78660
ORGANIZER;CN="Pflugerville Arts Council":MAILTO:info@pflugervilleartscouncil.org
END:VEVENT
BEGIN:VEVENT
DTSTART;TZID=UTC:20250817T160000
DTEND;TZID=UTC:20250817T173000
DTSTAMP:20260424T103746
CREATED:20250809T201958Z
LAST-MODIFIED:20250809T202409Z
UID:871-1755446400-1755451800@www.pflugervilleartscouncil.org
SUMMARY:"Not Past 11" Big Band Concert
DESCRIPTION:Enjoy this family-friendly concert with the Not Past 11 band.  This 18-piece band is made up of adult professional and amateur musicians\, including a female vocalist\, performing popular 70’s\, 80’s and 90’s rock songs.  The venue is the beautiful sanctuary at Pflugerville First United Methodist Church\, 500 E. Pecan Street\, and will go from 4:00 – 5:30 pm.  Admission is free\, and donations are gratefully accepted.
URL:https://www.pflugervilleartscouncil.org/calendar/free-concert-rock-jazz-pop/
LOCATION:Pflugerville First United Methodist Church\, 500 E. Pecan Street\, Pflugerville\, Texas\, 78660
END:VEVENT
BEGIN:VEVENT
DTSTART;TZID=America/Chicago:20251102T160000
DTEND;TZID=America/Chicago:20251102T180000
DTSTAMP:20260424T103746
CREATED:20251028T002001Z
LAST-MODIFIED:20251028T002743Z
UID:910-1762099200-1762106400@www.pflugervilleartscouncil.org
SUMMARY:Keys\, Beats and Belief Concert
DESCRIPTION:Join Us for an Unforgettable Musical Experience! \n\n\n\nAre you ready to enjoy a night filled with the sounds of classic worship and the energy of new praise music? Don’t miss this free concert featuring Ritika Bhattacharjee and Bryyy\, two incredibly multi-talented artists who are passionate about bringing joy\, inspiration\, and excitement to your listening experience! \n\n\n\nWhat to Expect\n\n\n\n\nClassic Worship: Revisit timeless favorites that have touched hearts for generations.\n\n\n\nNew Praise Music: Discover uplifting and inspiring songs that celebrate faith in fresh ways.\n\n\n\nRap and More: Experience a dynamic blend of styles\, including energetic rap that adds a modern twist to worship.\n\n\n\nFamily-Friendly Atmosphere: Bring the whole family and enjoy a concert designed to entertain and inspire all ages.\n\n\n\n\nWhy You Should Attend\n\n\n\nThis concert promises a joyful and uplifting atmosphere\, making it perfect for families\, friends\, and music lovers of all backgrounds. The diversity in music—from classic to contemporary\, praise to rap—ensures there’s something for everyone to enjoy. \n\n\n\nAdmission\n\n\n\nFree for everyone! No tickets required. Simply come as you are and be ready to celebrate together. \n\n\n\nDon’t Miss Out!\n\n\n\nMark your calendar and join us for an evening that will renew your spirit and entertain your whole family. We can’t wait to share this special experience with you!
URL:https://www.pflugervilleartscouncil.org/calendar/keys-beats-and-belief-concert/
LOCATION:Pflugerville First United Methodist Church\, 500 E. Pecan Street\, Pflugerville\, Texas\, 78660
ORGANIZER;CN="Pflugerville Arts Council":MAILTO:info@pflugervilleartscouncil.org
END:VEVENT
BEGIN:VEVENT
DTSTART;TZID=America/Chicago:20260314T100000
DTEND;TZID=America/Chicago:20260409T180000
DTSTAMP:20260424T103746
CREATED:20260314T172335Z
LAST-MODIFIED:20260314T215617Z
UID:943-1773482400-1775757600@www.pflugervilleartscouncil.org
SUMMARY:Reflections Within - Solo Art Exhibit by Sazu Khadem
DESCRIPTION:The Pflugerville Arts Council is pleased to present an insightful solo art exhibition titled “Reflections Within”\, highlighting the art of Bangladesh artist Sazu Khadem.  Consisting of 35 painted art pieces\, this free art exhibit is at the Pflugerville Public Library\, 1008 W. Pfluger Street\, Pflugerville\, TX from March 14 – April 10\, 2026.  Library hours are Monday – Thursday:  10am – 8pm; Friday – Saturday:  10am – 6pm; Sunday – 1pm – 6pm.  Reception is March 21 from 2:00-5:00pm. There is ample free parking.  Watch Sazu’s video here:  https://www.youtube.com/watch?v=DGwPkZW73pk
URL:https://www.pflugervilleartscouncil.org/calendar/reflections-within-solo-art-exhibit-by-sazu-khadem/
LOCATION:Pflugerville Public Library\, 1008 W Pfluger St.\, Pflugerville\, TX\, 78660\, United States
ORGANIZER;CN="Pflugerville Arts Council":MAILTO:pflugervilleartscouncil@gmail.com
END:VEVENT
BEGIN:VEVENT
DTSTART;TZID=America/Chicago:20260411T100000
DTEND;TZID=America/Chicago:20260508T140000
DTSTAMP:20260424T103746
CREATED:20260404T213042Z
LAST-MODIFIED:20260417T235836Z
UID:975-1775901600-1778248800@www.pflugervilleartscouncil.org
SUMMARY:Tali Rachelle Art Exhibit
DESCRIPTION:Tali Rachelle is a self-taught graphic artist\, illustrator\, and USAF veteran.  Her art is vibrant and unique. This exciting exhibit will be enhanced by augmented reality.  Download the Viewer App for www.artivive.com from the App Store\, on your phone or iPad.  At the show\, you will be to view the image on the phone through the App to see the image come alive. “I draw digitally with a vector program\, then I add the final touches and effects using photo editing software. I have a soft spot for technical design\, surrealism\, and all things fantastical. What I create is authentically me. I create the art I want to see in the world.”  View her website here.
URL:https://www.pflugervilleartscouncil.org/calendar/tali-rachelle-art-exhibit/
LOCATION:Pflugerville Public Library\, 1008 W. Pfluger Street\, Pflugerville\, Texas\, 78660\, United States
ATTACH;FMTTYPE=image/png:https://www.pflugervilleartscouncil.org/wp-content/uploads/2026/04/Dipped-Strawberries.png
ORGANIZER;CN="Pflugerville Arts Council":MAILTO:info@pflugervilleartscouncil.org
END:VEVENT
BEGIN:VEVENT
DTSTART;TZID=America/Chicago:20260426T160000
DTEND;TZID=America/Chicago:20260426T180000
DTSTAMP:20260424T103746
CREATED:20260419T221154Z
LAST-MODIFIED:20260419T221537Z
UID:995-1777219200-1777226400@www.pflugervilleartscouncil.org
SUMMARY:Not Past 11 band concert
DESCRIPTION:Enjoy this family-friendly concert with the Not Past 11 band.  This 18-piece band is made up of adult professional and amateur musicians\, including a female vocalist\, performing popular 70’s\, 80’s and 90’s rock songs.  The venue is the beautiful sanctuary at Pflugerville First United Methodist Church\, 500 E. Pecan Street\, and will run from 4:00 – 6:00 pm.  Admission is free\, and donations are gratefully accepted.
URL:https://www.pflugervilleartscouncil.org/calendar/not-past-11-band-concert/
LOCATION:Pflugerville First United Methodist Church\, 500 E. Pecan Street\, Pflugerville\, Texas\, 78660
ATTACH;FMTTYPE=image/png:https://www.pflugervilleartscouncil.org/wp-content/uploads/2026/04/NotPast11Band-flyer.png
ORGANIZER;CN="Pflugerville Arts Council":MAILTO:info@pflugervilleartscouncil.org
END:VEVENT
END:VCALENDAR