BEGIN:VCALENDAR
VERSION:2.0
PRODID:-//Pflugerville Arts Council - ECPv6.15.20//NONSGML v1.0//EN
CALSCALE:GREGORIAN
METHOD:PUBLISH
X-WR-CALNAME:Pflugerville Arts Council
X-ORIGINAL-URL:https://www.pflugervilleartscouncil.org
X-WR-CALDESC:Events for Pflugerville Arts Council
REFRESH-INTERVAL;VALUE=DURATION:PT1H
X-Robots-Tag:noindex
X-PUBLISHED-TTL:PT1H
BEGIN:VTIMEZONE
TZID:UTC
BEGIN:STANDARD
TZOFFSETFROM:+0000
TZOFFSETTO:+0000
TZNAME:UTC
DTSTART:20210101T000000
END:STANDARD
END:VTIMEZONE
BEGIN:VEVENT
DTSTART;TZID=UTC:20220717T160000
DTEND;TZID=UTC:20220717T173000
DTSTAMP:20260425T055907
CREATED:20220708T030141Z
LAST-MODIFIED:20220708T030313Z
UID:594-1658073600-1658079000@www.pflugervilleartscouncil.org
SUMMARY:Classical Artists Concert Series
DESCRIPTION:The Pflugerville Arts Council is pleased to present Classical Artists Concert Series:  Sunday Symphony on July 17\, 2022 from 4-6pm.  The concert will be performed at the First United Methodist Church\, 500 E. Pecan Street\, Pflugerville\, Texas.  Parking and entrance to the concert are free.  The concert will feature Matthew Gustafson on Cello and Katie Lalmond Gustafson on piano.  Although admission is free\, donations are appreciated so that we may continue bringing high-quality\, professional concerts to the Pflugerville area.
URL:https://www.pflugervilleartscouncil.org/calendar/classical-artists-concert-series/
LOCATION:Pflugerville First United Methodist Church\, 500 E. Pecan Street\, Pflugerville\, Texas\, 78660
ATTACH;FMTTYPE=image/png:https://www.pflugervilleartscouncil.org/wp-content/uploads/2022/05/07.17.22-Matt_Kaitlin-flyer.png
ORGANIZER;CN="Pflugerville Arts Council":MAILTO:info@pflugervilleartscouncil.org
END:VEVENT
END:VCALENDAR