BEGIN:VCALENDAR
VERSION:2.0
PRODID:-//Pflugerville Arts Council - ECPv6.15.20//NONSGML v1.0//EN
CALSCALE:GREGORIAN
METHOD:PUBLISH
X-ORIGINAL-URL:https://www.pflugervilleartscouncil.org
X-WR-CALDESC:Events for Pflugerville Arts Council
REFRESH-INTERVAL;VALUE=DURATION:PT1H
X-Robots-Tag:noindex
X-PUBLISHED-TTL:PT1H
BEGIN:VTIMEZONE
TZID:UTC
BEGIN:STANDARD
TZOFFSETFROM:+0000
TZOFFSETTO:+0000
TZNAME:UTC
DTSTART:20230101T000000
END:STANDARD
END:VTIMEZONE
BEGIN:VEVENT
DTSTART;TZID=UTC:20240105T080000
DTEND;TZID=UTC:20240209T170000
DTSTAMP:20260424T220349
CREATED:20230710T232137Z
LAST-MODIFIED:20230921T003004Z
UID:764-1704441600-1707498000@www.pflugervilleartscouncil.org
SUMMARY:Art Exhibit - Acts of Kindness
DESCRIPTION:
URL:https://www.pflugervilleartscouncil.org/calendar/art-show-acts-of-kindness-in-an-unkind-world/
LOCATION:Pflugerville Public Library\, 1008 W Pfluger St.\, Pflugerville\, TX\, 78660\, United States
ORGANIZER;CN="Pflugerville Arts Council":MAILTO:info@pflugervilleartscouncil.org
END:VEVENT
END:VCALENDAR