BEGIN:VCALENDAR
VERSION:2.0
PRODID:-//Pflugerville Arts Council - ECPv6.15.20//NONSGML v1.0//EN
CALSCALE:GREGORIAN
METHOD:PUBLISH
X-WR-CALNAME:Pflugerville Arts Council
X-ORIGINAL-URL:https://www.pflugervilleartscouncil.org
X-WR-CALDESC:Events for Pflugerville Arts Council
REFRESH-INTERVAL;VALUE=DURATION:PT1H
X-Robots-Tag:noindex
X-PUBLISHED-TTL:PT1H
BEGIN:VTIMEZONE
TZID:UTC
BEGIN:STANDARD
TZOFFSETFROM:+0000
TZOFFSETTO:+0000
TZNAME:UTC
DTSTART:20230101T000000
END:STANDARD
END:VTIMEZONE
BEGIN:VEVENT
DTSTART;TZID=UTC:20240419T070000
DTEND;TZID=UTC:20240519T160000
DTSTAMP:20260424T173038
CREATED:20240412T114145Z
LAST-MODIFIED:20240502T222817Z
UID:797-1713510000-1716134400@www.pflugervilleartscouncil.org
SUMMARY:Art in Town | Trae Mitchell
DESCRIPTION:Trae Mitchell is a Pflugerville barber and business owner (The Barbershop Company)\, Veteran\, Pflugerville Arts Council Board member\, Pflugerville Chamber of Commerce member\, as well as an artist!  His art will be displayed at West Pecan Coffee + Beer\, 100 West Pecan Street\, from April 19 – May 19\, 2024.  Come have a cup and enjoy local art!
URL:https://www.pflugervilleartscouncil.org/calendar/art-in-town-trae-mitchell/
LOCATION:West Pecan Coffee + Beer\, 100 West Pecan Street\, Pflugerville\, Texas\, 100 West Pecan Street\, Pflugerville\, Texas\, 78660\, United States
END:VEVENT
BEGIN:VEVENT
DTSTART;TZID=UTC:20240519T160000
DTEND;TZID=UTC:20240519T170000
DTSTAMP:20260424T173038
CREATED:20240502T222607Z
LAST-MODIFIED:20240502T222608Z
UID:802-1716134400-1716138000@www.pflugervilleartscouncil.org
SUMMARY:John Henry Johnson in concert
DESCRIPTION:John Henry Johnson is a percussive fingerstyle guitarist known for his virtuoso guitar playing and wide array of techniques which allow him to blend melody\, rhythm\, and percussiveelements into a mesmerizing symphony of sound. Expect a mix of music\, includingThe Eagles\, The Weeknd\, Bob Dylan\, Taylor Swift\, as well as classical pieces!  \n\n\n\nFor more about John’s music\, go to https://johnhenrysguitar.com. \n\n\n\n\nhttps://johnhenrysguitar.com
URL:https://www.pflugervilleartscouncil.org/calendar/john-henry-johnson-in-concert/
LOCATION:Pflugerville First United Methodist Church\, 500 E. Pecan Street\, Pflugerville\, Texas\, 78660
ORGANIZER;CN="Pflugerville Arts Council":MAILTO:info@pflugervilleartscouncil.org
END:VEVENT
END:VCALENDAR